BEGIN:VCALENDAR
VERSION:2.0
PRODID:-//Lake Champlain Basin Program - ECPv6.15.20//NONSGML v1.0//EN
CALSCALE:GREGORIAN
METHOD:PUBLISH
X-ORIGINAL-URL:https://www.lcbp.org
X-WR-CALDESC:Events for Lake Champlain Basin Program
REFRESH-INTERVAL;VALUE=DURATION:PT1H
X-Robots-Tag:noindex
X-PUBLISHED-TTL:PT1H
BEGIN:VTIMEZONE
TZID:America/New_York
BEGIN:DAYLIGHT
TZOFFSETFROM:-0500
TZOFFSETTO:-0400
TZNAME:EDT
DTSTART:20230312T070000
END:DAYLIGHT
BEGIN:STANDARD
TZOFFSETFROM:-0400
TZOFFSETTO:-0500
TZNAME:EST
DTSTART:20231105T060000
END:STANDARD
BEGIN:DAYLIGHT
TZOFFSETFROM:-0500
TZOFFSETTO:-0400
TZNAME:EDT
DTSTART:20240310T070000
END:DAYLIGHT
BEGIN:STANDARD
TZOFFSETFROM:-0400
TZOFFSETTO:-0500
TZNAME:EST
DTSTART:20241103T060000
END:STANDARD
BEGIN:DAYLIGHT
TZOFFSETFROM:-0500
TZOFFSETTO:-0400
TZNAME:EDT
DTSTART:20250309T070000
END:DAYLIGHT
BEGIN:STANDARD
TZOFFSETFROM:-0400
TZOFFSETTO:-0500
TZNAME:EST
DTSTART:20251102T060000
END:STANDARD
END:VTIMEZONE
BEGIN:VEVENT
DTSTART;TZID=America/New_York:20240830T185656
DTEND;TZID=America/New_York:20240830T185656
DTSTAMP:20260425T081248
CREATED:20240823T160747Z
LAST-MODIFIED:20240830T225656Z
UID:10000203-1725044216-1725044216@www.lcbp.org
SUMMARY:Lake Champlain Executive Committee Meeting
DESCRIPTION:This meeting will be held in person at Lake Champlain Basin Program Offices in Grand Isle\, VT. A virtual component will also be offered through Microsoft Teams. Please mark your calendar.
URL:https://www.lcbp.org/event/lcbp-executive-committee-meeting-13/2024-08-30/
LOCATION:Gordon Center House\, 54 West Shore Road\, Grand Isle\, VT\, 05458\, United States
CATEGORIES:LCBP Meeting
ORGANIZER;CN="Kerry Crowningshield":MAILTO:kcrowningshield@lcbp.org
END:VEVENT
BEGIN:VEVENT
DTSTART;TZID=America/New_York:20240830T190200
DTEND;TZID=America/New_York:20240830T190200
DTSTAMP:20260425T081248
CREATED:20240823T163732Z
LAST-MODIFIED:20240830T230224Z
UID:10000205-1725044520-1725044520@www.lcbp.org
SUMMARY:Lake Champlain Executive Committee Meeting
DESCRIPTION:This meeting will be held virtually through Microsoft Teams. Please mark your calendar.
URL:https://www.lcbp.org/event/lake-champlain-executive-committee-meeting-2/2024-08-30/
LOCATION:Virtual
CATEGORIES:LCBP Meeting
ORGANIZER;CN="Kerry Crowningshield":MAILTO:kcrowningshield@lcbp.org
END:VEVENT
END:VCALENDAR